Workbook

Sheet AGOSTO ORDINARIO
A1: En cumplimiento a lo dispuesto en el artículo 11 párrafo último de la Ley de Coordinación Fiscal para el Estado de Oaxaca y numeral 5 fracción II, inciso b del Acuerdo por el que se expiden los Lineamientos para la publicación de la información a que se refiere el articulo 6o. de la Ley de Coordinación Fiscal.
A2: I. Importe de las Participaciones pagadas a los Municipios del Estado de Oaxaca correspondiente al mes de AGOSTO de 2026.
A3: CLAVE | B3: MUNICIPIO | C3: FONDO GENERAL DE PARTICIPACIONES | D3: FONDO DE FOMENTO MUNICIPAL | E3: FONDO DE IMPUESTOS ESPECIALES SOBRE PRODUCCION Y SERVICIOS | F3: FONDO DE FISCALIZACION Y RECAUDACIÓN | G3: FONDO DE COMPENSACION | H3: IMPUESTO SOBRE AUTOMÓVILES NUEVOS | I3: IMPUESTO A LAS VENTAS FINALES DE GASOLINAS Y DIESEL | J3: 9/11 FIEPS GASOLINA Y DIESEL (CORRESPONDIENTE A JULIO 2026) | K3: FONDO DE COMPENSACION DEL IMPUESTO SOBRE AUTOMOVILES NUEVOS ISAN | L3: ISR ARTICULO 126 | M3: ISR 3-B | N3: HIDROCARBUROS | O3: TOTAL
A4: 1 | B4: ABEJONES | C4: 144476 | D4: 53142 | E4: 2183 | F4: 6015 | G4: 2286 | H4: 775 | I4: 1649 | J4: 1 | K4: 459 | L4: 115 | M4: 0 | N4: 0 | O4: =SUM(C4:N4) -> 211101
A5: 2 | B5: ACATLAN DE PEREZ FIGUEROA | C5: 3856095 | D5: 1664705 | E5: 42312 | F5: 78156 | G5: 122145 | H5: 25379 | I5: 95942 | J5: 74 | K5: 6017 | L5: 7371 | M5: 0 | N5: 41864.2 | O5: =SUM(C5:N5) -> 5940060.2
A6: 3 | B6: ASUNCION CACALOTEPEC | C6: 243035 | D6: 49566 | E6: 3104 | F6: 7113 | G6: 7012 | H6: 1479 | I6: 5024 | J6: 4 | K6: 543 | L6: 353 | M6: 0 | N6: 0 | O6: =SUM(C6:N6) -> 317233
A7: 4 | B7: ASUNCION CUYOTEPEJI | C7: 141927 | D7: 62111 | E7: 1788 | F7: 3989 | G7: 2967 | H7: 873 | I7: 2556 | J7: 2 | K7: 333 | L7: 214 | M7: 0 | N7: 0 | O7: =SUM(C7:N7) -> 216760
A8: 5 | B8: ASUNCION IXTALTEPEC | C8: 2078025 | D8: 427884 | E8: 22157 | F8: 42515 | G8: 40597 | H8: 13435 | I8: 40674 | J8: 31 | K8: 3066 | L8: 3833 | M8: 0 | N8: 0 | O8: =SUM(C8:N8) -> 2672217
A9: 6 | B9: ASUNCION NOCHIXTLAN | C9: 2686305 | D9: 867236 | E9: 26017 | F9: 40517 | G9: 54893 | H9: 18262 | I9: 58208 | J9: 45 | K9: 3055 | L9: 5736 | M9: 0 | N9: 0 | O9: =SUM(C9:N9) -> 3760274
A10: 7 | B10: ASUNCION OCOTLAN | C10: 292438 | D10: 84463 | E10: 3952 | F10: 10127 | G10: 6756 | H10: 1665 | I10: 4696 | J10: 4 | K10: 779 | L10: 327 | M10: 0 | N10: 0 | O10: =SUM(C10:N10) -> 405207
A11: 8 | B11: ASUNCION TLACOLULITA | C11: 146728 | D11: 56458 | E11: 1883 | F11: 4607 | G11: 1985 | H11: 861 | I11: 1986 | J11: 2 | K11: 331 | L11: 189 | M11: 0 | N11: 0 | O11: =SUM(C11:N11) -> 215030
A12: 9 | B12: AYOTZINTEPEC | C12: 555798 | D12: 167023 | E12: 6164 | F12: 12812 | G12: 18606 | H12: 3500 | I12: 13444 | J12: 10 | K12: 1043 | L12: 937 | M12: 0 | N12: 0 | O12: =SUM(C12:N12) -> 779337
A13: 10 | B13: EL BARRIO DE LA SOLEDAD | C13: 2580754 | D13: 431954 | E13: 25112 | F13: 25328 | G13: 35774 | H13: 19103 | I13: 56304 | J13: 43 | K13: 1892 | L13: 6700 | M13: 0 | N13: 0 | O13: =SUM(C13:N13) -> 3182964
A14: 11 | B14: CALIHUALA | C14: 153521 | D14: 63221 | E14: 2075 | F14: 5010 | G14: 3872 | H14: 909 | I14: 2792 | J14: 2 | K14: 380 | L14: 199 | M14: 0 | N14: 0 | O14: =SUM(C14:N14) -> 231981
A15: 12 | B15: CANDELARIA LOXICHA | C15: 1129328 | D15: 94580 | E15: 11968 | F15: 17906 | G15: 31463 | H15: 7873 | I15: 27981 | J15: 22 | K15: 1354 | L15: 2515 | M15: 0 | N15: 0 | O15: =SUM(C15:N15) -> 1324990
... A573: 570 | B573: ZIMATLAN DE ALVAREZ | C573: 2435807 | D573: 694516 | E573: 24482 | F573: 37501 | G573: 59357 | H573: 16719 | I573: 57117 | J573: 44 | K573: 3094 | L573: 5262 | M573: 236089 | N573: 0 | O573: =SUM(C573:N573) -> 3569988
A574: TOTAL | C574: =SUM(C4:C573) -> 555790472 | D574: =SUM(D4:D573) -> 156114729 | E574: =SUM(E4:E573) -> 5875245 | F574: =SUM(F4:F573) -> 9973830 | G574: =SUM(G4:G573) -> 11188181 | H574: =SUM(H4:H573) -> 3716511 | I574: =SUM(I4:I573) -> 11573405 | J574: =SUM(J4:J573) -> 8935 | ... N574: =SUM(N4:N573) -> 1377429.4 | O574: =SUM(C574:N574) -> 7.8480385e+08
B575: NOTA: LAS SUMATORIAS DE CADA CONCEPTO PUEDE NO COINCIDIR POR EL REDONDEO

Sheet TOTAL PAGADO
A1: En cumplimiento a lo dispuesto en el artículo 11 párrafo último de la Ley de Coordinación Fiscal para el Estado de Oaxaca y numeral 5 fracción II, inciso b del Acuerdo por el que se expiden los Lineamientos para la publicación de la información a que se refiere el articulo 6o. de la Ley de Coordinación Fiscal.
A2: I. Importe Total de las Participaciones pagadas a los Municipios del Estado de Oaxaca correspondiente al mes de AGOSTO de 2026.
A3: CLAVE | B3: MUNICIPIO | C3: AGOSTO ORDINARIO | D3: TOTAL PAGADO
A4: 1 | B4: ABEJONES | C4: =+'AGOSTO ORDINARIO'!O4 -> 211101 | D4: =SUM(C4:C4) -> 211101
A5: 2 | B5: ACATLAN DE PEREZ FIGUEROA | C5: =+'AGOSTO ORDINARIO'!O5 -> 5940060.2 | D5: =SUM(C5:C5) -> 5940060.2
A6: 3 | B6: ASUNCION CACALOTEPEC | C6: =+'AGOSTO ORDINARIO'!O6 -> 317233 | D6: =SUM(C6:C6) -> 317233
A7: 4 | B7: ASUNCION CUYOTEPEJI | C7: =+'AGOSTO ORDINARIO'!O7 -> 216760 | D7: =SUM(C7:C7) -> 216760
A8: 5 | B8: ASUNCION IXTALTEPEC | C8: =+'AGOSTO ORDINARIO'!O8 -> 2672217 | D8: =SUM(C8:C8) -> 2672217
A9: 6 | B9: ASUNCION NOCHIXTLAN | C9: =+'AGOSTO ORDINARIO'!O9 -> 3760274 | D9: =SUM(C9:C9) -> 3760274
A10: 7 | B10: ASUNCION OCOTLAN | C10: =+'AGOSTO ORDINARIO'!O10 -> 405207 | D10: =SUM(C10:C10) -> 405207
A11: 8 | B11: ASUNCION TLACOLULITA | C11: =+'AGOSTO ORDINARIO'!O11 -> 215030 | D11: =SUM(C11:C11) -> 215030
A12: 9 | B12: AYOTZINTEPEC | C12: =+'AGOSTO ORDINARIO'!O12 -> 779337 | D12: =SUM(C12:C12) -> 779337
A13: 10 | B13: EL BARRIO DE LA SOLEDAD | C13: =+'AGOSTO ORDINARIO'!O13 -> 3182964 | D13: =SUM(C13:C13) -> 3182964
A14: 11 | B14: CALIHUALA | C14: =+'AGOSTO ORDINARIO'!O14 -> 231981 | D14: =SUM(C14:C14) -> 231981
A15: 12 | B15: CANDELARIA LOXICHA | C15: =+'AGOSTO ORDINARIO'!O15 -> 1324990 | D15: =SUM(C15:C15) -> 1324990
... A573: 570 | B573: ZIMATLAN DE ALVAREZ | C573: =+'AGOSTO ORDINARIO'!O573 -> 3569988 | D573: =SUM(C573:C573) -> 3569988
A574: TOTAL | C574: =SUM(C4:C573) -> 7.8480385e+08 | D574: =SUM(D4:D573) -> 7.8480385e+08
